BEGIN:VCALENDAR
VERSION:2.0
PRODID:-//selectedinterventions/echocal//NONSGML v1.0//EN
BEGIN:VEVENT
UID:26fa1765955833e42c80484da3711a12
DTSTART:20260422T000000
DTEND:20260423T000000
TRANSP:TRANSPARENT
X-MICROSOFT-CDO-BUSYSTATUS:FREE
RRULE:FREQ=WEEKLY;COUNT=52;BYDAY=WE
SUMMARY:Reminder - Domestic recycling collection
DESCRIPTION:Domestic recycling collection for Flat 1, 101 Sumatra Road, London, NW6 1PL / / Every Wednesday\n\nNote: any changes to collections around Christmas / New Year will not show up in your calendar, please check online or in local press for details
BEGIN:VALARM
TRIGGER:-PT6H
ACTION:DISPLAY
END:VALARM
END:VEVENT
END:VCALENDAR