BEGIN:VCALENDAR
VERSION:2.0
PRODID:-//selectedinterventions/echocal//NONSGML v1.0//EN
BEGIN:VEVENT
UID:60a71eee2171d394c2dc67ce6261bf61
DTSTART:20260429T000000
DTEND:20260430T000000
TRANSP:TRANSPARENT
X-MICROSOFT-CDO-BUSYSTATUS:FREE
RRULE:FREQ=WEEKLY;COUNT=52;BYDAY=WE
SUMMARY:Reminder - Domestic recycling collection
DESCRIPTION:Domestic recycling collection for 86 Patshull Road, London, NW5 2LD / / Every Wednesday\n\nNote: any changes to collections around Christmas / New Year will not show up in your calendar, please check online or in local press for details
BEGIN:VALARM
TRIGGER:-PT6H
ACTION:DISPLAY
END:VALARM
END:VEVENT
END:VCALENDAR